<VRTDataset rasterXSize="4320000" rasterYSize="1692001">
  <SRS dataAxisToSRSAxisMapping="2,1">GEOGCS["WGS 84",DATUM["WGS_1984",SPHEROID["WGS 84",6378137,298.257223563,AUTHORITY["EPSG","7030"]],AUTHORITY["EPSG","6326"]],PRIMEM["Greenwich",0,AUTHORITY["EPSG","8901"]],UNIT["degree",0.0174532925199433,AUTHORITY["EPSG","9122"]],AXIS["Latitude",NORTH],AXIS["Longitude",EAST],AUTHORITY["EPSG","4326"]]</SRS>
  <GeoTransform> -1.8000000000000000e+02,  8.3333333333330430e-05,  0.0000000000000000e+00,  8.4000000000000000e+01,  0.0000000000000000e+00, -8.3333333333330430e-05</GeoTransform>
  <VRTRasterBand dataType="Byte" band="1">
    <ColorInterp>Gray</ColorInterp>
    <SimpleSource>
      <SourceFilename relativeToVRT="1">../cn_g_i_1.tif</SourceFilename>
      <SourceBand>1</SourceBand>
      <SourceProperties RasterXSize="36001" RasterYSize="36001" DataType="Byte" BlockXSize="256" BlockYSize="256" />
      <SrcRect xOff="0" yOff="0" xSize="36001" ySize="36001" />
      <DstRect xOff="4176000" yOff="1620000" xSize="36001" ySize="36001" />
    </SimpleSource>
    <SimpleSource>
      <SourceFilename relativeToVRT="1">../cn_g_i_10.tif</SourceFilename>
      <SourceBand>1</SourceBand>
      <SourceProperties RasterXSize="36001" RasterYSize="36001" DataType="Byte" BlockXSize="256" BlockYSize="256" />
      <SrcRect xOff="0" yOff="0" xSize="36001" ySize="36001" />
      <DstRect xOff="4176000" yOff="1548000" xSize="36001" ySize="36001" />
    </SimpleSource>
    <SimpleSource>
      <SourceFilename relativeToVRT="1">../cn_g_i_100.tif</SourceFilename>
      <SourceBand>1</SourceBand>
      <SourceProperties RasterXSize="36001" RasterYSize="36001" DataType="Byte" BlockXSize="256" BlockYSize="256" />
      <SrcRect xOff="0" yOff="0" xSize="36001" ySize="36001" />
      <DstRect xOff="2412000" yOff="1332000" xSize="36001" ySize="36001" />
    </SimpleSource>
    <SimpleSource>
      <SourceFilename relativeToVRT="1">../cn_g_i_1000.tif</SourceFilename>
      <SourceBand>1</SourceBand>
      <SourceProperties RasterXSize="36001" RasterYSize="36001" DataType="Byte" BlockXSize="256" BlockYSize="256" />
      <SrcRect xOff="0" yOff="0" xSize="36001" ySize="36001" />
      <DstRect xOff="2700000" yOff="396000" xSize="36001" ySize="36001" />
    </SimpleSource>
    <SimpleSource>
      <SourceFilename relativeToVRT="1">../cn_g_i_1001.tif</SourceFilename>
      <SourceBand>1</SourceBand>
      <SourceProperties RasterXSize="36001" RasterYSize="36001" DataType="Byte" BlockXSize="256" BlockYSize="256" />
      <SrcRect xOff="0" yOff="0" xSize="36001" ySize="36001" />
      <DstRect xOff="2736000" yOff="396000" xSize="36001" ySize="36001" />
    </SimpleSource>
    <SimpleSource>
      <SourceFilename relativeToVRT="1">../cn_g_i_1002.tif</SourceFilename>
      <SourceBand>1</SourceBand>
      <SourceProperties RasterXSize="36001" RasterYSize="36001" DataType="Byte" BlockXSize="256" BlockYSize="256" />
      <SrcRect xOff="0" yOff="0" xSize="36001" ySize="36001" />
      <DstRect xOff="2700000" yOff="360000" xSize="36001" ySize="36001" />
    </SimpleSource>
    <SimpleSource>
      <SourceFilename relativeToVRT="1">../cn_g_i_1003.tif</SourceFilename>
      <SourceBand>1</SourceBand>
      <SourceProperties RasterXSize="36001" RasterYSize="36001" DataType="Byte" BlockXSize="256" BlockYSize="256" />
      <SrcRect xOff="0" yOff="0" xSize="36001" ySize="36001" />
      <DstRect xOff="2736000" yOff="360000" xSize="36001" ySize="36001" />
    </SimpleSource>
    <SimpleSource>
      <SourceFilename relativeToVRT="1">../cn_g_i_1004.tif</SourceFilename>
      <SourceBand>1</SourceBand>
      <SourceProperties RasterXSize="36001" RasterYSize="36001" DataType="Byte" BlockXSize="256" BlockYSize="256" />
      <SrcRect xOff="0" yOff="0" xSize="36001" ySize="36001" />
      <DstRect xOff="2772000" yOff="360000" xSize="36001" ySize="36001" />
    </SimpleSource>
    <SimpleSource>
      <SourceFilename relativeToVRT="1">../cn_g_i_1005.tif</SourceFilename>
      <SourceBand>1</SourceBand>
      <SourceProperties RasterXSize="36001" RasterYSize="36001" DataType="Byte" BlockXSize="256" BlockYSize="256" />
      <SrcRect xOff="0" yOff="0" xSize="36001" ySize="36001" />
      <DstRect xOff="2808000" yOff="360000" xSize="36001" ySize="36001" />
    </SimpleSource>
    <SimpleSource>
      <SourceFilename relativeToVRT="1">../cn_g_i_1006.tif</SourceFilename>
      <SourceBand>1</SourceBand>
      <SourceProperties RasterXSize="36001" RasterYSize="36001" DataType="Byte" BlockXSize="256" BlockYSize="256" />
      <SrcRect xOff="0" yOff="0" xSize="36001" ySize="36001" />
      <DstRect xOff="2736000" yOff="324000" xSize="36001" ySize="36001" />
    </SimpleSource>
    <SimpleSource>
      <SourceFilename relativeToVRT="1">../cn_g_i_1007.tif</SourceFilename>
      <SourceBand>1</SourceBand>
      <SourceProperties RasterXSize="36001" RasterYSize="36001" DataType="Byte" BlockXSize="256" BlockYSize="256" />
      <SrcRect xOff="0" yOff="0" xSize="36001" ySize="36001" />
      <DstRect xOff="2700000" yOff="324000" xSize="36001" ySize="36001" />
    </SimpleSource>
    <SimpleSource>
      <SourceFilename relativeToVRT="1">../cn_g_i_1008.tif</SourceFilename>
      <SourceBand>1</SourceBand>
      <SourceProperties RasterXSize="36001" RasterYSize="36001" DataType="Byte" BlockXSize="256" BlockYSize="256" />
      <SrcRect xOff="0" yOff="0" xSize="36001" ySize="36001" />
      <DstRect xOff="2772000" yOff="324000" xSize="36001" ySize="36001" />
    </SimpleSource>
    <SimpleSource>
      <SourceFilename relativeToVRT="1">../cn_g_i_1009.tif</SourceFilename>
      <SourceBand>1</SourceBand>
      <SourceProperties RasterXSize="36001" RasterYSize="36001" DataType="Byte" BlockXSize="256" BlockYSize="256" />
      <SrcRect xOff="0" yOff="0" xSize="36001" ySize="36001" />
      <DstRect xOff="2808000" yOff="324000" xSize="36001" ySize="36001" />
    </SimpleSource>
    <SimpleSource>
      <SourceFilename relativeToVRT="1">../cn_g_i_101.tif</SourceFilename>
      <SourceBand>1</SourceBand>
      <SourceProperties RasterXSize="36001" RasterYSize="36001" DataType="Byte" BlockXSize="256" BlockYSize="256" />
      <SrcRect xOff="0" yOff="0" xSize="36001" ySize="36001" />
      <DstRect xOff="2376000" yOff="1332000" xSize="36001" ySize="36001" />
    </SimpleSource>
    <SimpleSource>
      <SourceFilename relativeToVRT="1">../cn_g_i_1010.tif</SourceFilename>
      <SourceBand>1</SourceBand>
      <SourceProperties RasterXSize="36001" RasterYSize="36001" DataType="Byte" BlockXSize="256" BlockYSize="256" />
      <SrcRect xOff="0" yOff="0" xSize="36001" ySize="36001" />
      <DstRect xOff="2880000" yOff="324000" xSize="36001" ySize="36001" />
    </SimpleSource>
    <SimpleSource>
      <SourceFilename relativeToVRT="1">../cn_g_i_1011.tif</SourceFilename>
      <SourceBand>1</SourceBand>
      <SourceProperties RasterXSize="36001" RasterYSize="36001" DataType="Byte" BlockXSize="256" BlockYSize="256" />
      <SrcRect xOff="0" yOff="0" xSize="36001" ySize="36001" />
      <DstRect xOff="2844000" yOff="324000" xSize="36001" ySize="36001" />
    </SimpleSource>
    <SimpleSource>
      <SourceFilename relativeToVRT="1">../cn_g_i_1012.tif</SourceFilename>
      <SourceBand>1</SourceBand>
      <SourceProperties RasterXSize="36001" RasterYSize="36001" DataType="Byte" BlockXSize="256" BlockYSize="256" />
      <SrcRect xOff="0" yOff="0" xSize="36001" ySize="36001" />
      <DstRect xOff="2952000" yOff="324000" xSize="36001" ySize="36001" />
    </SimpleSource>
    <SimpleSource>
      <SourceFilename relativeToVRT="1">../cn_g_i_1013.tif</SourceFilename>
      <SourceBand>1</SourceBand>
      <SourceProperties RasterXSize="36001" RasterYSize="36001" DataType="Byte" BlockXSize="256" BlockYSize="256" />
      <SrcRect xOff="0" yOff="0" xSize="36001" ySize="36001" />
      <DstRect xOff="2916000" yOff="324000" xSize="36001" ySize="36001" />
    </SimpleSource>
    <SimpleSource>
      <SourceFilename relativeToVRT="1">../cn_g_i_1014.tif</SourceFilename>
      <SourceBand>1</SourceBand>
      <SourceProperties RasterXSize="36001" RasterYSize="36001" DataType="Byte" BlockXSize="256" BlockYSize="256" />
      <SrcRect xOff="0" yOff="0" xSize="36001" ySize="36001" />
      <DstRect xOff="2916000" yOff="288000" xSize="36001" ySize="36001" />
    </SimpleSource>
    <SimpleSource>
      <SourceFilename relativeToVRT="1">../cn_g_i_1015.tif</SourceFilename>
      <SourceBand>1</SourceBand>
      <SourceProperties RasterXSize="36001" RasterYSize="36001" DataType="Byte" BlockXSize="256" BlockYSize="256" />
      <SrcRect xOff="0" yOff="0" xSize="36001" ySize="36001" />
      <DstRect xOff="2952000" yOff="288000" xSize="36001" ySize="36001" />
    </SimpleSource>
    <SimpleSource>
      <SourceFilename relativeToVRT="1">../cn_g_i_1016.tif</SourceFilename>
      <SourceBand>1</SourceBand>
      <SourceProperties RasterXSize="36001" RasterYSize="36001" DataType="Byte" BlockXSize="256" BlockYSize="256" />
      <SrcRect xOff="0" yOff="0" xSize="36001" ySize="36001" />
      <DstRect xOff="2952000" yOff="252000" xSize="36001" ySize="36001" />
    </SimpleSource>
    <SimpleSource>
      <SourceFilename relativeToVRT="1">../cn_g_i_1017.tif</SourceFilename>
      <SourceBand>1</SourceBand>
      <SourceProperties RasterXSize="36001" RasterYSize="36001" DataType="Byte" BlockXSize="256" BlockYSize="256" />
      <SrcRect xOff="0" yOff="0" xSize="36001" ySize="36001" />
      <DstRect xOff="2916000" yOff="252000" xSize="36001" ySize="36001" />
    </SimpleSource>
    <SimpleSource>
      <SourceFilename relativeToVRT="1">../cn_g_i_1018.tif</SourceFilename>
      <SourceBand>1</SourceBand>
      <SourceProperties RasterXSize="36001" RasterYSize="36001" DataType="Byte" BlockXSize="256" BlockYSize="256" />
      <SrcRect xOff="0" yOff="0" xSize="36001" ySize="36001" />
      <DstRect xOff="2880000" yOff="252000" xSize="36001" ySize="36001" />
    </SimpleSource>
    <SimpleSource>
      <SourceFilename relativeToVRT="1">../cn_g_i_1019.tif</SourceFilename>
      <SourceBand>1</SourceBand>
      <SourceProperties RasterXSize="36001" RasterYSize="36001" DataType="Byte" BlockXSize="256" BlockYSize="256" />
      <SrcRect xOff="0" yOff="0" xSize="36001" ySize="36001" />
      <DstRect xOff="2844000" yOff="252000" xSize="36001" ySize="36001" />
    </SimpleSource>
    <SimpleSource>
      <SourceFilename relativeToVRT="1">../cn_g_i_102.tif</SourceFilename>
      <SourceBand>1</SourceBand>
      <SourceProperties RasterXSize="36001" RasterYSize="36001" DataType="Byte" BlockXSize="256" BlockYSize="256" />
      <SrcRect xOff="0" yOff="0" xSize="36001" ySize="36001" />
      <DstRect xOff="2340000" yOff="1332000" xSize="36001" ySize="36001" />
    </SimpleSource>
    <SimpleSource>
      <SourceFilename relativeToVRT="1">../cn_g_i_1020.tif</SourceFilename>
      <SourceBand>1</SourceBand>
      <SourceProperties RasterXSize="36001" RasterYSize="36001" DataType="Byte" BlockXSize="256" BlockYSize="256" />
      <SrcRect xOff="0" yOff="0" xSize="36001" ySize="36001" />
      <DstRect xOff="2844000" yOff="288000" xSize="36001" ySize="36001" />
    </SimpleSource>
    <SimpleSource>
      <SourceFilename relativeToVRT="1">../cn_g_i_1021.tif</SourceFilename>
      <SourceBand>1</SourceBand>
      <SourceProperties RasterXSize="36001" RasterYSize="36001" DataType="Byte" BlockXSize="256" BlockYSize="256" />
      <SrcRect xOff="0" yOff="0" xSize="36001" ySize="36001" />
      <DstRect xOff="2880000" yOff="288000" xSize="36001" ySize="36001" />
    </SimpleSource>
    <SimpleSource>
      <SourceFilename relativeToVRT="1">../cn_g_i_1022.tif</SourceFilename>
      <SourceBand>1</SourceBand>
      <SourceProperties RasterXSize="36001" RasterYSize="36001" DataType="Byte" BlockXSize="256" BlockYSize="256" />
      <SrcRect xOff="0" yOff="0" xSize="36001" ySize="36001" />
      <DstRect xOff="2808000" yOff="288000" xSize="36001" ySize="36001" />
    </SimpleSource>
    <SimpleSource>
      <SourceFilename relativeToVRT="1">../cn_g_i_1023.tif</SourceFilename>
      <SourceBand>1</SourceBand>
      <SourceProperties RasterXSize="36001" RasterYSize="36001" DataType="Byte" BlockXSize="256" BlockYSize="256" />
      <SrcRect xOff="0" yOff="0" xSize="36001" ySize="36001" />
      <DstRect xOff="2772000" yOff="288000" xSize="36001" ySize="36001" />
    </SimpleSource>
    <SimpleSource>
      <SourceFilename relativeToVRT="1">../cn_g_i_1024.tif</SourceFilename>
      <SourceBand>1</SourceBand>
      <SourceProperties RasterXSize="36001" RasterYSize="36001" DataType="Byte" BlockXSize="256" BlockYSize="256" />
      <SrcRect xOff="0" yOff="0" xSize="36001" ySize="36001" />
      <DstRect xOff="2700000" yOff="288000" xSize="36001" ySize="36001" />
    </SimpleSource>
    <SimpleSource>
      <SourceFilename relativeToVRT="1">../cn_g_i_1025.tif</SourceFilename>
      <SourceBand>1</SourceBand>
      <SourceProperties RasterXSize="36001" RasterYSize="36001" DataType="Byte" BlockXSize="256" BlockYSize="256" />
      <SrcRect xOff="0" yOff="0" xSize="36001" ySize="36001" />
      <DstRect xOff="2736000" yOff="288000" xSize="36001" ySize="36001" />
    </SimpleSource>
    <SimpleSource>
      <SourceFilename relativeToVRT="1">../cn_g_i_1026.tif</SourceFilename>
      <SourceBand>1</SourceBand>
      <SourceProperties RasterXSize="36001" RasterYSize="36001" DataType="Byte" BlockXSize="256" BlockYSize="256" />
      <SrcRect xOff="0" yOff="0" xSize="36001" ySize="36001" />
      <DstRect xOff="2700000" yOff="252000" xSize="36001" ySize="36001" />
    </SimpleSource>
    <SimpleSource>
      <SourceFilename relativeToVRT="1">../cn_g_i_1027.tif</SourceFilename>
      <SourceBand>1</SourceBand>
      <SourceProperties RasterXSize="36001" RasterYSize="36001" DataType="Byte" BlockXSize="256" BlockYSize="256" />
      <SrcRect xOff="0" yOff="0" xSize="36001" ySize="36001" />
      <DstRect xOff="2736000" yOff="252000" xSize="36001" ySize="36001" />
    </SimpleSource>
    <SimpleSource>
      <SourceFilename relativeToVRT="1">../cn_g_i_1028.tif</SourceFilename>
      <SourceBand>1</SourceBand>
      <SourceProperties RasterXSize="36001" RasterYSize="36001" DataType="Byte" BlockXSize="256" BlockYSize="256" />
      <SrcRect xOff="0" yOff="0" xSize="36001" ySize="36001" />
      <DstRect xOff="2772000" yOff="252000" xSize="36001" ySize="36001" />
    </SimpleSource>
    <SimpleSource>
      <SourceFilename relativeToVRT="1">../cn_g_i_1029.tif</SourceFilename>
      <SourceBand>1</SourceBand>
      <SourceProperties RasterXSize="36001" RasterYSize="36001" DataType="Byte" BlockXSize="256" BlockYSize="256" />
      <SrcRect xOff="0" yOff="0" xSize="36001" ySize="36001" />
      <DstRect xOff="2808000" yOff="252000" xSize="36001" ySize="36001" />
    </SimpleSource>
    <SimpleSource>
      <SourceFilename relativeToVRT="1">../cn_g_i_103.tif</SourceFilename>
      <SourceBand>1</SourceBand>
      <SourceProperties RasterXSize="36001" RasterYSize="36001" DataType="Byte" BlockXSize="256" BlockYSize="256" />
      <SrcRect xOff="0" yOff="0" xSize="36001" ySize="36001" />
      <DstRect xOff="2340000" yOff="1368000" xSize="36001" ySize="36001" />
    </SimpleSource>
    <SimpleSource>
      <SourceFilename relativeToVRT="1">../cn_g_i_1030.tif</SourceFilename>
      <SourceBand>1</SourceBand>
      <SourceProperties RasterXSize="36001" RasterYSize="36001" DataType="Byte" BlockXSize="256" BlockYSize="256" />
      <SrcRect xOff="0" yOff="0" xSize="36001" ySize="36001" />
      <DstRect xOff="2736000" yOff="216000" xSize="36001" ySize="36001" />
    </SimpleSource>
    <SimpleSource>
      <SourceFilename relativeToVRT="1">../cn_g_i_1031.tif</SourceFilename>
      <SourceBand>1</SourceBand>
      <SourceProperties RasterXSize="36001" RasterYSize="36001" DataType="Byte" BlockXSize="256" BlockYSize="256" />
      <SrcRect xOff="0" yOff="0" xSize="36001" ySize="36001" />
      <DstRect xOff="2700000" yOff="216000" xSize="36001" ySize="36001" />
    </SimpleSource>
    <SimpleSource>
      <SourceFilename relativeToVRT="1">../cn_g_i_1032.tif</SourceFilename>
      <SourceBand>1</SourceBand>
      <SourceProperties RasterXSize="36001" RasterYSize="36001" DataType="Byte" BlockXSize="256" BlockYSize="256" />
      <SrcRect xOff="0" yOff="0" xSize="36001" ySize="36001" />
      <DstRect xOff="2772000" yOff="216000" xSize="36001" ySize="36001" />
    </SimpleSource>
    <SimpleSource>
      <SourceFilename relativeToVRT="1">../cn_g_i_1033.tif</SourceFilename>
      <SourceBand>1</SourceBand>
      <SourceProperties RasterXSize="36001" RasterYSize="36001" DataType="Byte" BlockXSize="256" BlockYSize="256" />
      <SrcRect xOff="0" yOff="0" xSize="36001" ySize="36001" />
      <DstRect xOff="2808000" yOff="216000" xSize="36001" ySize="36001" />
    </SimpleSource>
    <SimpleSource>
      <SourceFilename relativeToVRT="1">../cn_g_i_1034.tif</SourceFilename>
      <SourceBand>1</SourceBand>
      <SourceProperties RasterXSize="36001" RasterYSize="36001" DataType="Byte" BlockXSize="256" BlockYSize="256" />
      <SrcRect xOff="0" yOff="0" xSize="36001" ySize="36001" />
      <DstRect xOff="2880000" yOff="216000" xSize="36001" ySize="36001" />
    </SimpleSource>
    <SimpleSource>
      <SourceFilename relativeToVRT="1">../cn_g_i_1035.tif</SourceFilename>
      <SourceBand>1</SourceBand>
      <SourceProperties RasterXSize="36001" RasterYSize="36001" DataType="Byte" BlockXSize="256" BlockYSize="256" />
      <SrcRect xOff="0" yOff="0" xSize="36001" ySize="36001" />
      <DstRect xOff="2844000" yOff="216000" xSize="36001" ySize="36001" />
    </SimpleSource>
    <SimpleSource>
      <SourceFilename relativeToVRT="1">../cn_g_i_1036.tif</SourceFilename>
      <SourceBand>1</SourceBand>
      <SourceProperties RasterXSize="36001" RasterYSize="36001" DataType="Byte" BlockXSize="256" BlockYSize="256" />
      <SrcRect xOff="0" yOff="0" xSize="36001" ySize="36001" />
      <DstRect xOff="2952000" yOff="216000" xSize="36001" ySize="36001" />
    </SimpleSource>
    <SimpleSource>
      <SourceFilename relativeToVRT="1">../cn_g_i_1037.tif</SourceFilename>
      <SourceBand>1</SourceBand>
      <SourceProperties RasterXSize="36001" RasterYSize="36001" DataType="Byte" BlockXSize="256" BlockYSize="256" />
      <SrcRect xOff="0" yOff="0" xSize="36001" ySize="36001" />
      <DstRect xOff="2916000" yOff="216000" xSize="36001" ySize="36001" />
    </SimpleSource>
    <SimpleSource>
      <SourceFilename relativeToVRT="1">../cn_g_i_1038.tif</SourceFilename>
      <SourceBand>1</SourceBand>
      <SourceProperties RasterXSize="36001" RasterYSize="36001" DataType="Byte" BlockXSize="256" BlockYSize="256" />
      <SrcRect xOff="0" yOff="0" xSize="36001" ySize="36001" />
      <DstRect xOff="2988000" yOff="216000" xSize="36001" ySize="36001" />
    </SimpleSource>
    <SimpleSource>
      <SourceFilename relativeToVRT="1">../cn_g_i_1039.tif</SourceFilename>
      <SourceBand>1</SourceBand>
      <SourceProperties RasterXSize="36001" RasterYSize="36001" DataType="Byte" BlockXSize="256" BlockYSize="256" />
      <SrcRect xOff="0" yOff="0" xSize="36001" ySize="36001" />
      <DstRect xOff="3060000" yOff="216000" xSize="36001" ySize="36001" />
    </SimpleSource>
    <SimpleSource>
      <SourceFilename relativeToVRT="1">../cn_g_i_104.tif</SourceFilename>
      <SourceBand>1</SourceBand>
      <SourceProperties RasterXSize="36001" RasterYSize="36001" DataType="Byte" BlockXSize="256" BlockYSize="256" />
      <SrcRect xOff="0" yOff="0" xSize="36001" ySize="36001" />
      <DstRect xOff="2340000" yOff="1296000" xSize="36001" ySize="36001" />
    </SimpleSource>
    <SimpleSource>
      <SourceFilename relativeToVRT="1">../cn_g_i_1040.tif</SourceFilename>
      <SourceBand>1</SourceBand>
      <SourceProperties RasterXSize="36001" RasterYSize="36001" DataType="Byte" BlockXSize="256" BlockYSize="256" />
      <SrcRect xOff="0" yOff="0" xSize="36001" ySize="36001" />
      <DstRect xOff="3024000" yOff="216000" xSize="36001" ySize="36001" />
    </SimpleSource>
    <SimpleSource>
      <SourceFilename relativeToVRT="1">../cn_g_i_1041.tif</SourceFilename>
      <SourceBand>1</SourceBand>
      <SourceProperties RasterXSize="36001" RasterYSize="36001" DataType="Byte" BlockXSize="256" BlockYSize="256" />
      <SrcRect xOff="0" yOff="0" xSize="36001" ySize="36001" />
      <DstRect xOff="2988000" yOff="252000" xSize="36001" ySize="36001" />
    </SimpleSource>
    <SimpleSource>
      <SourceFilename relativeToVRT="1">../cn_g_i_1042.tif</SourceFilename>
      <SourceBand>1</SourceBand>
      <SourceProperties RasterXSize="36001" RasterYSize="36001" DataType="Byte" BlockXSize="256" BlockYSize="256" />
      <SrcRect xOff="0" yOff="0" xSize="36001" ySize="36001" />
      <DstRect xOff="2988000" yOff="288000" xSize="36001" ySize="36001" />
    </SimpleSource>
    <SimpleSource>
      <SourceFilename relativeToVRT="1">../cn_g_i_1043.tif</SourceFilename>
      <SourceBand>1</SourceBand>
      <SourceProperties RasterXSize="36001" RasterYSize="36001" DataType="Byte" BlockXSize="256" BlockYSize="256" />
      <SrcRect xOff="0" yOff="0" xSize="36001" ySize="36001" />
      <DstRect xOff="3024000" yOff="288000" xSize="36001" ySize="36001" />
    </SimpleSource>
    <SimpleSource>
      <SourceFilename relativeToVRT="1">../cn_g_i_1044.tif</SourceFilename>
      <SourceBand>1</SourceBand>
      <SourceProperties RasterXSize="36001" RasterYSize="36001" DataType="Byte" BlockXSize="256" BlockYSize="256" />
      <SrcRect xOff="0" yOff="0" xSize="36001" ySize="36001" />
      <DstRect xOff="3060000" yOff="288000" xSize="36001" ySize="36001" />
    </SimpleSource>
    <SimpleSource>
      <SourceFilename relativeToVRT="1">../cn_g_i_1045.tif</SourceFilename>
      <SourceBand>1</SourceBand>
      <SourceProperties RasterXSize="36001" RasterYSize="36001" DataType="Byte" BlockXSize="256" BlockYSize="256" />
      <SrcRect xOff="0" yOff="0" xSize="36001" ySize="36001" />
      <DstRect xOff="3024000" yOff="252000" xSize="36001" ySize="36001" />
    </SimpleSource>
    <SimpleSource>
      <SourceFilename relativeToVRT="1">../cn_g_i_1046.tif</SourceFilename>
      <SourceBand>1</SourceBand>
      <SourceProperties RasterXSize="36001" RasterYSize="36001" DataType="Byte" BlockXSize="256" BlockYSize="256" />
      <SrcRect xOff="0" yOff="0" xSize="36001" ySize="36001" />
      <DstRect xOff="3060000" yOff="252000" xSize="36001" ySize="36001" />
    </SimpleSource>
    <SimpleSource>
      <SourceFilename relativeToVRT="1">../cn_g_i_1047.tif</SourceFilename>
      <SourceBand>1</SourceBand>
      <SourceProperties RasterXSize="36001" RasterYSize="36001" DataType="Byte" BlockXSize="256" BlockYSize="256" />
      <SrcRect xOff="0" yOff="0" xSize="36001" ySize="36001" />
      <DstRect xOff="3096000" yOff="252000" xSize="36001" ySize="36001" />
    </SimpleSource>
    <SimpleSource>
      <SourceFilename relativeToVRT="1">../cn_g_i_1048.tif</SourceFilename>
      <SourceBand>1</SourceBand>
      <SourceProperties RasterXSize="36001" RasterYSize="36001" DataType="Byte" BlockXSize="256" BlockYSize="256" />
      <SrcRect xOff="0" yOff="0" xSize="36001" ySize="36001" />
      <DstRect xOff="3132000" yOff="252000" xSize="36001" ySize="36001" />
    </SimpleSource>
    <SimpleSource>
      <SourceFilename relativeToVRT="1">../cn_g_i_1049.tif</SourceFilename>
      <SourceBand>1</SourceBand>
      <SourceProperties RasterXSize="36001" RasterYSize="36001" DataType="Byte" BlockXSize="256" BlockYSize="256" />
      <SrcRect xOff="0" yOff="0" xSize="36001" ySize="36001" />
      <DstRect xOff="3096000" yOff="288000" xSize="36001" ySize="36001" />
    </SimpleSource>
    <SimpleSource>
      <SourceFilename relativeToVRT="1">../cn_g_i_105.tif</SourceFilename>
      <SourceBand>1</SourceBand>
      <SourceProperties RasterXSize="36001" RasterYSize="36001" DataType="Byte" BlockXSize="256" BlockYSize="256" />
      <SrcRect xOff="0" yOff="0" xSize="36001" ySize="36001" />
