<VRTDataset rasterXSize="4320000" rasterYSize="1728000">
  <SRS dataAxisToSRSAxisMapping="2,1">GEOGCS["WGS 84",DATUM["WGS_1984",SPHEROID["WGS 84",6378137,298.257223563,AUTHORITY["EPSG","7030"]],AUTHORITY["EPSG","6326"]],PRIMEM["Greenwich",0],UNIT["degree",0.0174532925199433,AUTHORITY["EPSG","9122"]],AXIS["Latitude",NORTH],AXIS["Longitude",EAST],AUTHORITY["EPSG","4326"]]</SRS>
  <GeoTransform> -1.8000000000000000e+02,  8.3333333333330430e-05,  0.0000000000000000e+00,  8.4000000000000000e+01,  0.0000000000000000e+00, -8.3333333333330430e-05</GeoTransform>
  <VRTRasterBand dataType="Byte" band="1">
    <NoDataValue>0</NoDataValue>
    <ColorInterp>Palette</ColorInterp>
    <ColorTable>
      <Entry c1="0" c2="0" c3="0" c4="0" />
      <Entry c1="0" c2="0" c3="0" c4="255" />
      <Entry c1="0" c2="0" c3="0" c4="255" />
      <Entry c1="0" c2="0" c3="0" c4="255" />
      <Entry c1="0" c2="0" c3="0" c4="255" />
      <Entry c1="0" c2="0" c3="0" c4="255" />
      <Entry c1="0" c2="0" c3="0" c4="255" />
      <Entry c1="0" c2="0" c3="0" c4="255" />
      <Entry c1="0" c2="0" c3="0" c4="255" />
      <Entry c1="0" c2="0" c3="0" c4="255" />
      <Entry c1="0" c2="100" c3="0" c4="255" />
      <Entry c1="0" c2="0" c3="0" c4="255" />
      <Entry c1="0" c2="0" c3="0" c4="255" />
      <Entry c1="0" c2="0" c3="0" c4="255" />
      <Entry c1="0" c2="0" c3="0" c4="255" />
      <Entry c1="0" c2="0" c3="0" c4="255" />
      <Entry c1="0" c2="0" c3="0" c4="255" />
      <Entry c1="0" c2="0" c3="0" c4="255" />
      <Entry c1="0" c2="0" c3="0" c4="255" />
      <Entry c1="0" c2="0" c3="0" c4="255" />
      <Entry c1="255" c2="187" c3="34" c4="255" />
      <Entry c1="0" c2="0" c3="0" c4="255" />
      <Entry c1="0" c2="0" c3="0" c4="255" />
      <Entry c1="0" c2="0" c3="0" c4="255" />
      <Entry c1="0" c2="0" c3="0" c4="255" />
      <Entry c1="0" c2="0" c3="0" c4="255" />
      <Entry c1="0" c2="0" c3="0" c4="255" />
      <Entry c1="0" c2="0" c3="0" c4="255" />
      <Entry c1="0" c2="0" c3="0" c4="255" />
      <Entry c1="0" c2="0" c3="0" c4="255" />
      <Entry c1="255" c2="255" c3="76" c4="255" />
      <Entry c1="0" c2="0" c3="0" c4="255" />
      <Entry c1="0" c2="0" c3="0" c4="255" />
      <Entry c1="0" c2="0" c3="0" c4="255" />
      <Entry c1="0" c2="0" c3="0" c4="255" />
      <Entry c1="0" c2="0" c3="0" c4="255" />
      <Entry c1="0" c2="0" c3="0" c4="255" />
      <Entry c1="0" c2="0" c3="0" c4="255" />
      <Entry c1="0" c2="0" c3="0" c4="255" />
      <Entry c1="0" c2="0" c3="0" c4="255" />
      <Entry c1="240" c2="150" c3="255" c4="255" />
      <Entry c1="0" c2="0" c3="0" c4="255" />
      <Entry c1="0" c2="0" c3="0" c4="255" />
      <Entry c1="0" c2="0" c3="0" c4="255" />
      <Entry c1="0" c2="0" c3="0" c4="255" />
      <Entry c1="0" c2="0" c3="0" c4="255" />
      <Entry c1="0" c2="0" c3="0" c4="255" />
      <Entry c1="0" c2="0" c3="0" c4="255" />
      <Entry c1="0" c2="0" c3="0" c4="255" />
      <Entry c1="0" c2="0" c3="0" c4="255" />
      <Entry c1="250" c2="0" c3="0" c4="255" />
      <Entry c1="0" c2="0" c3="0" c4="255" />
      <Entry c1="0" c2="0" c3="0" c4="255" />
      <Entry c1="0" c2="0" c3="0" c4="255" />
      <Entry c1="0" c2="0" c3="0" c4="255" />
      <Entry c1="0" c2="0" c3="0" c4="255" />
      <Entry c1="0" c2="0" c3="0" c4="255" />
      <Entry c1="0" c2="0" c3="0" c4="255" />
      <Entry c1="0" c2="0" c3="0" c4="255" />
      <Entry c1="0" c2="0" c3="0" c4="255" />
      <Entry c1="180" c2="180" c3="180" c4="255" />
      <Entry c1="0" c2="0" c3="0" c4="255" />
      <Entry c1="0" c2="0" c3="0" c4="255" />
      <Entry c1="0" c2="0" c3="0" c4="255" />
      <Entry c1="0" c2="0" c3="0" c4="255" />
      <Entry c1="0" c2="0" c3="0" c4="255" />
      <Entry c1="0" c2="0" c3="0" c4="255" />
      <Entry c1="0" c2="0" c3="0" c4="255" />
      <Entry c1="0" c2="0" c3="0" c4="255" />
      <Entry c1="0" c2="0" c3="0" c4="255" />
      <Entry c1="240" c2="240" c3="240" c4="255" />
      <Entry c1="0" c2="0" c3="0" c4="255" />
      <Entry c1="0" c2="0" c3="0" c4="255" />
      <Entry c1="0" c2="0" c3="0" c4="255" />
      <Entry c1="0" c2="0" c3="0" c4="255" />
      <Entry c1="0" c2="0" c3="0" c4="255" />
      <Entry c1="0" c2="0" c3="0" c4="255" />
      <Entry c1="0" c2="0" c3="0" c4="255" />
      <Entry c1="0" c2="0" c3="0" c4="255" />
      <Entry c1="0" c2="0" c3="0" c4="255" />
      <Entry c1="0" c2="100" c3="200" c4="255" />
      <Entry c1="0" c2="0" c3="0" c4="255" />
      <Entry c1="0" c2="0" c3="0" c4="255" />
      <Entry c1="0" c2="0" c3="0" c4="255" />
      <Entry c1="0" c2="0" c3="0" c4="255" />
      <Entry c1="0" c2="0" c3="0" c4="255" />
      <Entry c1="0" c2="0" c3="0" c4="255" />
      <Entry c1="0" c2="0" c3="0" c4="255" />
      <Entry c1="0" c2="0" c3="0" c4="255" />
      <Entry c1="0" c2="0" c3="0" c4="255" />
      <Entry c1="0" c2="150" c3="160" c4="255" />
      <Entry c1="0" c2="0" c3="0" c4="255" />
      <Entry c1="0" c2="0" c3="0" c4="255" />
      <Entry c1="0" c2="0" c3="0" c4="255" />
      <Entry c1="0" c2="0" c3="0" c4="255" />
      <Entry c1="0" c2="207" c3="117" c4="255" />
      <Entry c1="0" c2="0" c3="0" c4="255" />
      <Entry c1="0" c2="0" c3="0" c4="255" />
      <Entry c1="0" c2="0" c3="0" c4="255" />
      <Entry c1="0" c2="0" c3="0" c4="255" />
      <Entry c1="250" c2="230" c3="160" c4="255" />
      <Entry c1="0" c2="0" c3="0" c4="255" />
      <Entry c1="0" c2="0" c3="0" c4="255" />
      <Entry c1="0" c2="0" c3="0" c4="255" />
      <Entry c1="0" c2="0" c3="0" c4="255" />
      <Entry c1="0" c2="0" c3="0" c4="255" />
      <Entry c1="0" c2="0" c3="0" c4="255" />
      <Entry c1="0" c2="0" c3="0" c4="255" />
      <Entry c1="0" c2="0" c3="0" c4="255" />
      <Entry c1="0" c2="0" c3="0" c4="255" />
      <Entry c1="0" c2="0" c3="0" c4="255" />
      <Entry c1="0" c2="0" c3="0" c4="255" />
      <Entry c1="0" c2="0" c3="0" c4="255" />
      <Entry c1="0" c2="0" c3="0" c4="255" />
      <Entry c1="0" c2="0" c3="0" c4="255" />
      <Entry c1="0" c2="0" c3="0" c4="255" />
      <Entry c1="0" c2="0" c3="0" c4="255" />
      <Entry c1="0" c2="0" c3="0" c4="255" />
      <Entry c1="0" c2="0" c3="0" c4="255" />
      <Entry c1="0" c2="0" c3="0" c4="255" />
      <Entry c1="0" c2="0" c3="0" c4="255" />
      <Entry c1="0" c2="0" c3="0" c4="255" />
      <Entry c1="0" c2="0" c3="0" c4="255" />
      <Entry c1="0" c2="0" c3="0" c4="255" />
      <Entry c1="0" c2="0" c3="0" c4="255" />
      <Entry c1="0" c2="0" c3="0" c4="255" />
      <Entry c1="0" c2="0" c3="0" c4="255" />
      <Entry c1="0" c2="0" c3="0" c4="255" />
      <Entry c1="0" c2="0" c3="0" c4="255" />
      <Entry c1="0" c2="0" c3="0" c4="255" />
      <Entry c1="0" c2="0" c3="0" c4="255" />
      <Entry c1="0" c2="0" c3="0" c4="255" />
      <Entry c1="0" c2="0" c3="0" c4="255" />
      <Entry c1="0" c2="0" c3="0" c4="255" />
      <Entry c1="0" c2="0" c3="0" c4="255" />
      <Entry c1="0" c2="0" c3="0" c4="255" />
      <Entry c1="0" c2="0" c3="0" c4="255" />
      <Entry c1="0" c2="0" c3="0" c4="255" />
      <Entry c1="0" c2="0" c3="0" c4="255" />
      <Entry c1="0" c2="0" c3="0" c4="255" />
      <Entry c1="0" c2="0" c3="0" c4="255" />
      <Entry c1="0" c2="0" c3="0" c4="255" />
      <Entry c1="0" c2="0" c3="0" c4="255" />
      <Entry c1="0" c2="0" c3="0" c4="255" />
      <Entry c1="0" c2="0" c3="0" c4="255" />
      <Entry c1="0" c2="0" c3="0" c4="255" />
      <Entry c1="0" c2="0" c3="0" c4="255" />
      <Entry c1="0" c2="0" c3="0" c4="255" />
      <Entry c1="0" c2="0" c3="0" c4="255" />
      <Entry c1="0" c2="0" c3="0" c4="255" />
      <Entry c1="0" c2="0" c3="0" c4="255" />
      <Entry c1="0" c2="0" c3="0" c4="255" />
      <Entry c1="0" c2="0" c3="0" c4="255" />
      <Entry c1="0" c2="0" c3="0" c4="255" />
      <Entry c1="0" c2="0" c3="0" c4="255" />
      <Entry c1="0" c2="0" c3="0" c4="255" />
      <Entry c1="0" c2="0" c3="0" c4="255" />
      <Entry c1="0" c2="0" c3="0" c4="255" />
      <Entry c1="0" c2="0" c3="0" c4="255" />
      <Entry c1="0" c2="0" c3="0" c4="255" />
      <Entry c1="0" c2="0" c3="0" c4="255" />
      <Entry c1="0" c2="0" c3="0" c4="255" />
      <Entry c1="0" c2="0" c3="0" c4="255" />
      <Entry c1="0" c2="0" c3="0" c4="255" />
      <Entry c1="0" c2="0" c3="0" c4="255" />
      <Entry c1="0" c2="0" c3="0" c4="255" />
      <Entry c1="0" c2="0" c3="0" c4="255" />
      <Entry c1="0" c2="0" c3="0" c4="255" />
      <Entry c1="0" c2="0" c3="0" c4="255" />
      <Entry c1="0" c2="0" c3="0" c4="255" />
      <Entry c1="0" c2="0" c3="0" c4="255" />
      <Entry c1="0" c2="0" c3="0" c4="255" />
      <Entry c1="0" c2="0" c3="0" c4="255" />
      <Entry c1="0" c2="0" c3="0" c4="255" />
      <Entry c1="0" c2="0" c3="0" c4="255" />
      <Entry c1="0" c2="0" c3="0" c4="255" />
      <Entry c1="0" c2="0" c3="0" c4="255" />
      <Entry c1="0" c2="0" c3="0" c4="255" />
      <Entry c1="0" c2="0" c3="0" c4="255" />
      <Entry c1="0" c2="0" c3="0" c4="255" />
      <Entry c1="0" c2="0" c3="0" c4="255" />
      <Entry c1="0" c2="0" c3="0" c4="255" />
      <Entry c1="0" c2="0" c3="0" c4="255" />
      <Entry c1="0" c2="0" c3="0" c4="255" />
      <Entry c1="0" c2="0" c3="0" c4="255" />
      <Entry c1="0" c2="0" c3="0" c4="255" />
      <Entry c1="0" c2="0" c3="0" c4="255" />
      <Entry c1="0" c2="0" c3="0" c4="255" />
      <Entry c1="0" c2="0" c3="0" c4="255" />
      <Entry c1="0" c2="0" c3="0" c4="255" />
      <Entry c1="0" c2="0" c3="0" c4="255" />
      <Entry c1="0" c2="0" c3="0" c4="255" />
      <Entry c1="0" c2="0" c3="0" c4="255" />
      <Entry c1="0" c2="0" c3="0" c4="255" />
      <Entry c1="0" c2="0" c3="0" c4="255" />
      <Entry c1="0" c2="0" c3="0" c4="255" />
      <Entry c1="0" c2="0" c3="0" c4="255" />
      <Entry c1="0" c2="0" c3="0" c4="255" />
      <Entry c1="0" c2="0" c3="0" c4="255" />
      <Entry c1="0" c2="0" c3="0" c4="255" />
      <Entry c1="0" c2="0" c3="0" c4="255" />
      <Entry c1="0" c2="0" c3="0" c4="255" />
      <Entry c1="0" c2="0" c3="0" c4="255" />
      <Entry c1="0" c2="0" c3="0" c4="255" />
      <Entry c1="0" c2="0" c3="0" c4="255" />
      <Entry c1="0" c2="0" c3="0" c4="255" />
      <Entry c1="0" c2="0" c3="0" c4="255" />
      <Entry c1="0" c2="0" c3="0" c4="255" />
      <Entry c1="0" c2="0" c3="0" c4="255" />
      <Entry c1="0" c2="0" c3="0" c4="255" />
      <Entry c1="0" c2="0" c3="0" c4="255" />
      <Entry c1="0" c2="0" c3="0" c4="255" />
      <Entry c1="0" c2="0" c3="0" c4="255" />
      <Entry c1="0" c2="0" c3="0" c4="255" />
      <Entry c1="0" c2="0" c3="0" c4="255" />
      <Entry c1="0" c2="0" c3="0" c4="255" />
      <Entry c1="0" c2="0" c3="0" c4="255" />
      <Entry c1="0" c2="0" c3="0" c4="255" />
      <Entry c1="0" c2="0" c3="0" c4="255" />
      <Entry c1="0" c2="0" c3="0" c4="255" />
      <Entry c1="0" c2="0" c3="0" c4="255" />
      <Entry c1="0" c2="0" c3="0" c4="255" />
      <Entry c1="0" c2="0" c3="0" c4="255" />
      <Entry c1="0" c2="0" c3="0" c4="255" />
      <Entry c1="0" c2="0" c3="0" c4="255" />
      <Entry c1="0" c2="0" c3="0" c4="255" />
      <Entry c1="0" c2="0" c3="0" c4="255" />
      <Entry c1="0" c2="0" c3="0" c4="255" />
      <Entry c1="0" c2="0" c3="0" c4="255" />
      <Entry c1="0" c2="0" c3="0" c4="255" />
      <Entry c1="0" c2="0" c3="0" c4="255" />
      <Entry c1="0" c2="0" c3="0" c4="255" />
      <Entry c1="0" c2="0" c3="0" c4="255" />
      <Entry c1="0" c2="0" c3="0" c4="255" />
      <Entry c1="0" c2="0" c3="0" c4="255" />
      <Entry c1="0" c2="0" c3="0" c4="255" />
      <Entry c1="0" c2="0" c3="0" c4="255" />
      <Entry c1="0" c2="0" c3="0" c4="255" />
      <Entry c1="0" c2="0" c3="0" c4="255" />
      <Entry c1="0" c2="0" c3="0" c4="255" />
      <Entry c1="0" c2="0" c3="0" c4="255" />
      <Entry c1="0" c2="0" c3="0" c4="255" />
      <Entry c1="0" c2="0" c3="0" c4="255" />
      <Entry c1="0" c2="0" c3="0" c4="255" />
      <Entry c1="0" c2="0" c3="0" c4="255" />
      <Entry c1="0" c2="0" c3="0" c4="255" />
      <Entry c1="0" c2="0" c3="0" c4="255" />
      <Entry c1="0" c2="0" c3="0" c4="255" />
      <Entry c1="0" c2="0" c3="0" c4="255" />
      <Entry c1="0" c2="0" c3="0" c4="255" />
      <Entry c1="0" c2="0" c3="0" c4="255" />
      <Entry c1="0" c2="0" c3="0" c4="255" />
      <Entry c1="0" c2="0" c3="0" c4="255" />
      <Entry c1="0" c2="0" c3="0" c4="255" />
      <Entry c1="0" c2="0" c3="0" c4="255" />
      <Entry c1="0" c2="0" c3="0" c4="255" />
    </ColorTable>
    <ComplexSource resampling="nearest">
      <SourceFilename relativeToVRT="0">/vsicurl/https://esa-worldcover.s3.eu-central-1.amazonaws.com/v200/2021/map/ESA_WorldCover_10m_2021_v200_S54E168_Map.tif</SourceFilename>
      <SourceBand>1</SourceBand>
      <SourceProperties RasterXSize="36000" RasterYSize="36000" DataType="Byte" BlockXSize="1024" BlockYSize="1024" />
      <SrcRect xOff="0" yOff="0" xSize="36000" ySize="36000" />
      <DstRect xOff="4176000" yOff="1620000" xSize="36000" ySize="36000" />
      <NODATA>0</NODATA>
    </ComplexSource>
    <ComplexSource resampling="nearest">
      <SourceFilename relativeToVRT="0">/vsicurl/https://esa-worldcover.s3.eu-central-1.amazonaws.com/v200/2021/map/ESA_WorldCover_10m_2021_v200_S54E165_Map.tif</SourceFilename>
      <SourceBand>1</SourceBand>
      <SourceProperties RasterXSize="36000" RasterYSize="36000" DataType="Byte" BlockXSize="1024" BlockYSize="1024" />
      <SrcRect xOff="0" yOff="0" xSize="36000" ySize="36000" />
      <DstRect xOff="4140000" yOff="1620000" xSize="36000" ySize="36000" />
      <NODATA>0</NODATA>
    </ComplexSource>
    <ComplexSource resampling="nearest">
      <SourceFilename relativeToVRT="0">/vsicurl/https://esa-worldcover.s3.eu-central-1.amazonaws.com/v200/2021/map/ESA_WorldCover_10m_2021_v200_S57E159_Map.tif</SourceFilename>
      <SourceBand>1</SourceBand>
      <SourceProperties RasterXSize="36000" RasterYSize="36000" DataType="Byte" BlockXSize="1024" BlockYSize="1024" />
      <SrcRect xOff="0" yOff="0" xSize="36000" ySize="36000" />
      <DstRect xOff="4068000" yOff="1656000" xSize="36000" ySize="36000" />
      <NODATA>0</NODATA>
    </ComplexSource>
    <ComplexSource resampling="nearest">
      <SourceFilename relativeToVRT="0">/vsicurl/https://esa-worldcover.s3.eu-central-1.amazonaws.com/v200/2021/map/ESA_WorldCover_10m_2021_v200_S57E156_Map.tif</SourceFilename>
      <SourceBand>1</SourceBand>
      <SourceProperties RasterXSize="36000" RasterYSize="36000" DataType="Byte" BlockXSize="1024" BlockYSize="1024" />
      <SrcRect xOff="0" yOff="0" xSize="36000" ySize="36000" />
      <DstRect xOff="4032000" yOff="1656000" xSize="36000" ySize="36000" />
      <NODATA>0</NODATA>
    </ComplexSource>
    <ComplexSource resampling="nearest">
      <SourceFilename relativeToVRT="0">/vsicurl/https://esa-worldcover.s3.eu-central-1.amazonaws.com/v200/2021/map/ESA_WorldCover_10m_2021_v200_S45E144_Map.tif</SourceFilename>
      <SourceBand>1</SourceBand>
      <SourceProperties RasterXSize="36000" RasterYSize="36000" DataType="Byte" BlockXSize="1024" BlockYSize="1024" />
      <SrcRect xOff="0" yOff="0" xSize="36000" ySize="36000" />
      <DstRect xOff="3888000" yOff="1512000" xSize="36000" ySize="36000" />
      <NODATA>0</NODATA>
    </ComplexSource>
    <ComplexSource resampling="nearest">
      <SourceFilename relativeToVRT="0">/vsicurl/https://esa-worldcover.s3.eu-central-1.amazonaws.com/v200/2021/map/ESA_WorldCover_10m_2021_v200_S45E147_Map.tif</SourceFilename>
      <SourceBand>1</SourceBand>
      <SourceProperties RasterXSize="36000" RasterYSize="36000" DataType="Byte" BlockXSize="1024" BlockYSize="1024" />
      <SrcRect xOff="0" yOff="0" xSize="36000" ySize="36000" />
      <DstRect xOff="3924000" yOff="1512000" xSize="36000" ySize="36000" />
      <NODATA>0</NODATA>
    </ComplexSource>
    <ComplexSource resampling="nearest">
      <SourceFilename relativeToVRT="0">/vsicurl/https://esa-worldcover.s3.eu-central-1.amazonaws.com/v200/2021/map/ESA_WorldCover_10m_2021_v200_S45E165_Map.tif</SourceFilename>
      <SourceBand>1</SourceBand>
      <SourceProperties RasterXSize="36000" RasterYSize="36000" DataType="Byte" BlockXSize="1024" BlockYSize="1024" />
      <SrcRect xOff="0" yOff="0" xSize="36000" ySize="36000" />
      <DstRect xOff="4140000" yOff="1512000" xSize="36000" ySize="36000" />
      <NODATA>0</NODATA>
    </ComplexSource>
    <ComplexSource resampling="nearest">
      <SourceFilename relativeToVRT="0">/vsicurl/https://esa-worldcover.s3.eu-central-1.amazonaws.com/v200/2021/map/ESA_WorldCover_10m_2021_v200_S51E165_Map.tif</SourceFilename>
      <SourceBand>1</SourceBand>
      <SourceProperties RasterXSize="36000" RasterYSize="36000" DataType="Byte" BlockXSize="1024" BlockYSize="1024" />
      <SrcRect xOff="0" yOff="0" xSize="36000" ySize="36000" />
      <DstRect xOff="4140000" yOff="1584000" xSize="36000" ySize="36000" />
      <NODATA>0</NODATA>
    </ComplexSource>
    <ComplexSource resampling="nearest">
      <SourceFilename relativeToVRT="0">/vsicurl/https://esa-worldcover.s3.eu-central-1.amazonaws.com/v200/2021/map/ESA_WorldCover_10m_2021_v200_S48E165_Map.tif</SourceFilename>
      <SourceBand>1</SourceBand>
      <SourceProperties RasterXSize="36000" RasterYSize="36000" DataType="Byte" BlockXSize="1024" BlockYSize="1024" />
      <SrcRect xOff="0" yOff="0" xSize="36000" ySize="36000" />
      <DstRect xOff="4140000" yOff="1548000" xSize="36000" ySize="36000" />
      <NODATA>0</NODATA>
    </ComplexSource>
    <ComplexSource resampling="nearest">
      <SourceFilename relativeToVRT="0">/vsicurl/https://esa-worldcover.s3.eu-central-1.amazonaws.com/v200/2021/map/ESA_WorldCover_10m_2021_v200_S48E168_Map.tif</SourceFilename>
      <SourceBand>1</SourceBand>
      <SourceProperties RasterXSize="36000" RasterYSize="36000" DataType="Byte" BlockXSize="1024" BlockYSize="1024" />
      <SrcRect xOff="0" yOff="0" xSize="36000" ySize="36000" />
      <DstRect xOff="4176000" yOff="1548000" xSize="36000" ySize="36000" />
      <NODATA>0</NODATA>
    </ComplexSource>
    <ComplexSource resampling="nearest">
      <SourceFilename relativeToVRT="0">/vsicurl/https://esa-worldcover.s3.eu-central-1.amazonaws.com/v200/2021/map/ESA_WorldCover_10m_2021_v200_S48E171_Map.tif</SourceFilename>
      <SourceBand>1</SourceBand>
      <SourceProperties RasterXSize="36000" RasterYSize="36000" DataType="Byte" BlockXSize="1024" BlockYSize="1024" />
      <SrcRect xOff="0" yOff="0" xSize="36000" ySize="36000" />
      <DstRect xOff="4212000" yOff="1548000" xSize="36000" ySize="36000" />
      <NODATA>0</NODATA>
    </ComplexSource>
    <ComplexSource resampling="nearest">
      <SourceFilename relativeToVRT="0">/vsicurl/https://esa-worldcover.s3.eu-central-1.amazonaws.com/v200/2021/map/ESA_WorldCover_10m_2021_v200_S45E171_Map.tif</SourceFilename>
      <SourceBand>1</SourceBand>
      <SourceProperties RasterXSize="36000" RasterYSize="36000" DataType="Byte" BlockXSize="1024" BlockYSize="1024" />
      <SrcRect xOff="0" yOff="0" xSize="36000" ySize="36000" />
      <DstRect xOff="4212000" yOff="1512000" xSize="36000" ySize="36000" />
      <NODATA>0</NODATA>
    </ComplexSource>
    <ComplexSource resampling="nearest">
      <SourceFilename relativeToVRT="0">/vsicurl/https://esa-worldcover.s3.eu-central-1.amazonaws.com/v200/2021/map/ESA_WorldCover_10m_2021_v200_S45E168_Map.tif</SourceFilename>
      <SourceBand>1</SourceBand>
      <SourceProperties RasterXSize="36000" RasterYSize="36000" DataType="Byte" BlockXSize="1024" BlockYSize="1024" />
      <SrcRect xOff="0" yOff="0" xSize="36000" ySize="36000" />
      <DstRect xOff="4176000" yOff="1512000" xSize="36000" ySize="36000" />
      <NODATA>0</NODATA>
    </ComplexSource>
    <ComplexSource resampling="nearest">
      <SourceFilename relativeToVRT="0">/vsicurl/https://esa-worldcover.s3.eu-central-1.amazonaws.com/v200/2021/map/ESA_WorldCover_10m_2021_v200_S45E174_Map.tif</SourceFilename>
      <SourceBand>1</SourceBand>
      <SourceProperties RasterXSize="36000" RasterYSize="36000" DataType="Byte" BlockXSize="1024" BlockYSize="1024" />
      <SrcRect xOff="0" yOff="0" xSize="36000" ySize="36000" />
      <DstRect xOff="4248000" yOff="1512000" xSize="36000" ySize="36000" />
      <NODATA>0</NODATA>
    </ComplexSource>
    <ComplexSource resampling="nearest">
      <SourceFilename relativeToVRT="0">/vsicurl/https://esa-worldcover.s3.eu-central-1.amazonaws.com/v200/2021/map/ESA_WorldCover_10m_2021_v200_S42E174_Map.tif</SourceFilename>
      <SourceBand>1</SourceBand>
      <SourceProperties RasterXSize="36000" RasterYSize="36000" DataType="Byte" BlockXSize="1024" BlockYSize="1024" />
      <SrcRect xOff="0" yOff="0" xSize="36000" ySize="36000" />
      <DstRect xOff="4248000" yOff="1476000" xSize="36000" ySize="36000" />
      <NODATA>0</NODATA>
    </ComplexSource>
    <ComplexSource resampling="nearest">
      <SourceFilename relativeToVRT="0">/vsicurl/https://esa-worldcover.s3.eu-central-1.amazonaws.com/v200/2021/map/ESA_WorldCover_10m_2021_v200_S42E177_Map.tif</SourceFilename>
      <SourceBand>1</SourceBand>
      <SourceProperties RasterXSize="36000" RasterYSize="36000" DataType="Byte" BlockXSize="1024" BlockYSize="1024" />
      <SrcRect xOff="0" yOff="0" xSize="36000" ySize="36000" />
      <DstRect xOff="4284000" yOff="1476000" xSize="36000" ySize="36000" />
      <NODATA>0</NODATA>
    </ComplexSource>
    <ComplexSource resampling="nearest">
      <SourceFilename relativeToVRT="0">/vsicurl/https://esa-worldcover.s3.eu-central-1.amazonaws.com/v200/2021/map/ESA_WorldCover_10m_2021_v200_S39E177_Map.tif</SourceFilename>
      <SourceBand>1</SourceBand>
      <SourceProperties RasterXSize="36000" RasterYSize="36000" DataType="Byte" BlockXSize="1024" BlockYSize="1024" />
      <SrcRect xOff="0" yOff="0" xSize="36000" ySize="36000" />
      <DstRect xOff="4284000" yOff="1440000" xSize="36000" ySize="36000" />
      <NODATA>0</NODATA>
    </ComplexSource>
    <ComplexSource resampling="nearest">
      <SourceFilename relativeToVRT="0">/vsicurl/https://esa-worldcover.s3.eu-central-1.amazonaws.com/v200/2021/map/ESA_WorldCover_10m_2021_v200_S39E174_Map.tif</SourceFilename>
      <SourceBand>1</SourceBand>
      <SourceProperties RasterXSize="36000" RasterYSize="36000" DataType="Byte" BlockXSize="1024" BlockYSize="1024" />
      <SrcRect xOff="0" yOff="0" xSize="36000" ySize="36000" />
      <DstRect xOff="4248000" yOff="1440000" xSize="36000" ySize="36000" />
      <NODATA>0</NODATA>
    </ComplexSource>
    <ComplexSource resampling="nearest">
      <SourceFilename relativeToVRT="0">/vsicurl/https://esa-worldcover.s3.eu-central-1.amazonaws.com/v200/2021/map/ESA_WorldCover_10m_2021_v200_S39E171_Map.tif</SourceFilename>
      <SourceBand>1</SourceBand>
      <SourceProperties RasterXSize="36000" RasterYSize="36000" DataType="Byte" BlockXSize="1024" BlockYSize="1024" />
      <SrcRect xOff="0" yOff="0" xSize="36000" ySize="36000" />
      <DstRect xOff="4212000" yOff="1440000" xSize="36000" ySize="36000" />
      <NODATA>0</NODATA>
    </ComplexSource>
    <ComplexSource resampling="nearest">
      <SourceFilename relativeToVRT="0">/vsicurl/https://esa-worldcover.s3.eu-central-1.amazonaws.com/v200/2021/map/ESA_WorldCover_10m_2021_v200_S42E171_Map.tif</SourceFilename>
      <SourceBand>1</SourceBand>
      <SourceProperties RasterXSize="36000" RasterYSize="36000" DataType="Byte" BlockXSize="1024" BlockYSize="1024" />
      <SrcRect xOff="0" yOff="0" xSize="36000" ySize="36000" />
